BEGIN:VCALENDAR
VERSION:2.0
PRODID:-//Elisabeth Schmeißer - ECPv6.0.6.2//NONSGML v1.0//EN
CALSCALE:GREGORIAN
METHOD:PUBLISH
X-ORIGINAL-URL:https://elisabeth-schmeisser.de
X-WR-CALDESC:Events for Elisabeth Schmeißer
REFRESH-INTERVAL;VALUE=DURATION:PT1H
X-Robots-Tag:noindex
X-PUBLISHED-TTL:PT1H
BEGIN:VTIMEZONE
TZID:UTC
BEGIN:STANDARD
TZOFFSETFROM:+0000
TZOFFSETTO:+0000
TZNAME:UTC
DTSTART:20230101T000000
END:STANDARD
END:VTIMEZONE
BEGIN:VEVENT
DTSTART;TZID=UTC:20230602T170000
DTEND;TZID=UTC:20230602T190000
DTSTAMP:20260422T230125
CREATED:20230330T162926Z
LAST-MODIFIED:20230330T162926Z
UID:985-1685725200-1685732400@elisabeth-schmeisser.de
SUMMARY:W.A. Mozart\, Die Zauberflöte\, Junge Oper
DESCRIPTION:
URL:https://elisabeth-schmeisser.de/events/w-a-mozart-die-zauberfloete-junge-oper-3
LOCATION:Fritzlar\, Fritzlar\, 34560
END:VEVENT
BEGIN:VEVENT
DTSTART;TZID=UTC:20230621T060000
DTEND;TZID=UTC:20230621T200000
DTSTAMP:20260422T230125
CREATED:20230330T162913Z
LAST-MODIFIED:20230330T162913Z
UID:989-1687327200-1687377600@elisabeth-schmeisser.de
SUMMARY:W.A. Mozart\, Die Zauberflöte\, Junge Oper
DESCRIPTION:
URL:https://elisabeth-schmeisser.de/events/w-a-mozart-die-zauberfloete-junge-oper-2
LOCATION:Saalfeld\, Saale\, Saalfeld/ Saale\, 07318
END:VEVENT
BEGIN:VEVENT
DTSTART;TZID=UTC:20230622T090000
DTEND;TZID=UTC:20230622T110000
DTSTAMP:20260422T230125
CREATED:20230330T141725Z
LAST-MODIFIED:20230330T141725Z
UID:992-1687424400-1687431600@elisabeth-schmeisser.de
SUMMARY:W.A. Mozart\, Die Zauberflöte\, Junge Oper
DESCRIPTION:
URL:https://elisabeth-schmeisser.de/events/w-a-mozart-die-zauberfloete-junge-oper
LOCATION:Waldershof\, Waldershof\, 95679
END:VEVENT
BEGIN:VEVENT
DTSTART;TZID=UTC:20230629T170000
DTEND;TZID=UTC:20230629T190000
DTSTAMP:20260422T230125
CREATED:20230602T094030Z
LAST-MODIFIED:20230602T094030Z
UID:1066-1688058000-1688065200@elisabeth-schmeisser.de
SUMMARY:"Walzerträume" Galakonzert im Dresdner Zwinger
DESCRIPTION:
URL:https://elisabeth-schmeisser.de/events/walzertraeume-galakonzert-im-dresdner-zwinger-2
LOCATION:Wallpavillon im Zwinger\, Dresden\, Sophienstraße\, Dresden\, Sachsen\, 01067
END:VEVENT
END:VCALENDAR