BEGIN:VCALENDAR
VERSION:2.0
PRODID:-//Elisabeth Schmeißer - ECPv6.0.6.2//NONSGML v1.0//EN
CALSCALE:GREGORIAN
METHOD:PUBLISH
X-WR-CALNAME:Elisabeth Schmeißer
X-ORIGINAL-URL:https://elisabeth-schmeisser.de
X-WR-CALDESC:Events for Elisabeth Schmeißer
REFRESH-INTERVAL;VALUE=DURATION:PT1H
X-Robots-Tag:noindex
X-PUBLISHED-TTL:PT1H
BEGIN:VTIMEZONE
TZID:UTC
BEGIN:STANDARD
TZOFFSETFROM:+0000
TZOFFSETTO:+0000
TZNAME:UTC
DTSTART:20230101T000000
END:STANDARD
END:VTIMEZONE
BEGIN:VEVENT
DTSTART;TZID=UTC:20230405T180000
DTEND;TZID=UTC:20230405T190000
DTSTAMP:20260423T015408
CREATED:20230330T162820Z
LAST-MODIFIED:20230330T162820Z
UID:976-1680717600-1680721200@elisabeth-schmeisser.de
SUMMARY:Bachelor Abschlusskonzert
DESCRIPTION:Meine Ruh’ ist hin – Am 05.04.2023 singe ich um 18 Uhr im kleinen Saal der HfM Dresden mein Bachelorabschluss-Konzert. \nZu hören gibt es Arien und Lieder von Bach und Mozart über Schubert\, Wagner und Puccini bis hin zu Britten – Barock bis Operettenklassiker. \nEin eigens zusammengestellter Liedblock steht ganz im Zeichen des Gretchens aus Goethes „Faust“. Alle Monologe\, vertont von verschiedenen Komponisten aus verschiedenen Epochen. \nAm Flügel spielen Prof. Christine Hesse und Prof.  Holger Miersch. \nAn alle Interessierten – Herzliche Einladung\, ich freue mich sehr auf Euer Kommen! \n  \n  \n 
URL:https://elisabeth-schmeisser.de/events/bachelor-abschlusskonzert
LOCATION:Kleiner Saal der Hochschule für Musik\, Dresden\, Wettiner Platz 13\, Dresden\, Sachsen
END:VEVENT
BEGIN:VEVENT
DTSTART;TZID=UTC:20230409T180000
DTEND;TZID=UTC:20230409T180000
DTSTAMP:20260423T015408
CREATED:20230107T083258Z
LAST-MODIFIED:20230107T083504Z
UID:836-1681063200-1681063200@elisabeth-schmeisser.de
SUMMARY:G.F. Händel “The Messiah” mit dem Dresdner Kammerchor und der Dresdner Philharmonie im Kulturpalast Dresden
DESCRIPTION:
URL:https://elisabeth-schmeisser.de/events/g-f-haendel-the-messiah-mit-dem-dresdner-kammerchor-und-der-dresdner-philharmonie-im-kulturpalast-dresden
END:VEVENT
BEGIN:VEVENT
DTSTART;TZID=UTC:20230410T193000
DTEND;TZID=UTC:20230410T193000
DTSTAMP:20260423T015408
CREATED:20230107T083428Z
LAST-MODIFIED:20230107T083428Z
UID:838-1681155000-1681155000@elisabeth-schmeisser.de
SUMMARY:G.F. Händel “The Messiah” mit dem Dresdner Kammerchor und der Dresdner Philharmonie im Kulturpalast Dresden
DESCRIPTION:
URL:https://elisabeth-schmeisser.de/events/g-f-haendel-the-messiah-mit-dem-dresdner-kammerchor-und-der-dresdner-philharmonie-im-kulturpalast-dresden-2
END:VEVENT
BEGIN:VEVENT
DTSTART;TZID=UTC:20230422T190000
DTEND;TZID=UTC:20230422T190000
DTSTAMP:20260423T015408
CREATED:20230107T083536Z
LAST-MODIFIED:20230107T083536Z
UID:840-1682190000-1682190000@elisabeth-schmeisser.de
SUMMARY:G. Verdi - Quattro pezzi sacri / Ave Maria / Stabat Mater / Laudi alla Vergine Maria / Te Deum\, G. Puccini - Messa di Gloria mit dem Dresdner Kammerchor im Forum am Schlosspark in Ludwigsburg
DESCRIPTION:
URL:https://elisabeth-schmeisser.de/events/g-verdi-quattro-pezzi-sacri-ave-maria-stabat-mater-laudi-alla-vergine-maria-te-deum-g-puccini-messa-di-gloria-mit-dem-dresdner-kammerchor-im-forum-am-schlosspark-in-ludwigsburg
END:VEVENT
BEGIN:VEVENT
DTSTART;TZID=UTC:20230423T190000
DTEND;TZID=UTC:20230423T190000
DTSTAMP:20260423T015408
CREATED:20230107T083611Z
LAST-MODIFIED:20230107T083611Z
UID:842-1682276400-1682276400@elisabeth-schmeisser.de
SUMMARY:G. Verdi - Quattro pezzi sacri / Ave Maria / Stabat Mater / Laudi alla Vergine Maria / Te Deum\, G. Puccini - Messa di Gloria mit dem Dresdner Kammerchor im Forum am Schlosspark in Ludwigsburg
DESCRIPTION:
URL:https://elisabeth-schmeisser.de/events/g-verdi-quattro-pezzi-sacri-ave-maria-stabat-mater-laudi-alla-vergine-maria-te-deum-g-puccini-messa-di-gloria-mit-dem-dresdner-kammerchor-im-forum-am-schlosspark-in-ludwigsburg-2
END:VEVENT
BEGIN:VEVENT
DTSTART;TZID=UTC:20230426T170000
DTEND;TZID=UTC:20230426T190000
DTSTAMP:20260423T015408
CREATED:20230407T110908Z
LAST-MODIFIED:20230407T110908Z
UID:1030-1682528400-1682535600@elisabeth-schmeisser.de
SUMMARY:Walzerträume - Galakonzert mit dem Dresdner Residenzorchester
DESCRIPTION:„Erleben Sie Walzer im unnachahmlichen Wiener Stil\, berauschende Polkas und schmissige Märsche. Mal spitzbübisch und mal schwelgend präsentiert das DRESDNER RESIDENZ ORCHESTER ein buntes Programm mit Werken von Johann Strauss bis Franz Lehár. Unsere charmante Sopranistin nimmt Sie mit auf eine Reise in die Zeit der goldenen Operettenära\, voller Wiener Charme und purer Musikzierfreude. \nDie ersten drei Reihen sind als VIP-Plätze reserviert. In dieser Kategorie erhalten Sie außerdem einen Gutschein für ein Glas Sekt oder ein Getränk Ihrer Wahl in der Konzertpause. \nDer Konzertsaal im Wallpavillon befindet sich auf der oberen Ebene des DresdnerZwingers. Bitte beachten Sie\, dass sowohl der Konzertsaal als auch die Toiletten nicht barrierefrei zugänglich sind.“
URL:https://elisabeth-schmeisser.de/events/walzertraeume-galakonzert-mit-dem-dresdner-residenzorchester
LOCATION:Wallpavillon im Zwinger\, Dresden\, Sophienstraße\, Dresden\, Sachsen\, 01067
END:VEVENT
END:VCALENDAR