BEGIN:VCALENDAR
VERSION:2.0
PRODID:-//Elisabeth Schmeißer - ECPv6.0.6.2//NONSGML v1.0//EN
CALSCALE:GREGORIAN
METHOD:PUBLISH
X-ORIGINAL-URL:https://elisabeth-schmeisser.de
X-WR-CALDESC:Events for Elisabeth Schmeißer
REFRESH-INTERVAL;VALUE=DURATION:PT1H
X-Robots-Tag:noindex
X-PUBLISHED-TTL:PT1H
BEGIN:VTIMEZONE
TZID:UTC
BEGIN:STANDARD
TZOFFSETFROM:+0000
TZOFFSETTO:+0000
TZNAME:UTC
DTSTART:20230101T000000
END:STANDARD
END:VTIMEZONE
BEGIN:VEVENT
DTSTART;TZID=UTC:20230202T090000
DTEND;TZID=UTC:20230202T120000
DTSTAMP:20260425T115014
CREATED:20230109T203732Z
LAST-MODIFIED:20230109T203809Z
UID:891-1675328400-1675339200@elisabeth-schmeisser.de
SUMMARY:Die Zauberflöte Junge Oper Detmold\, in Cramme
DESCRIPTION:
URL:https://elisabeth-schmeisser.de/events/die-zauberfloete-junge-oper-detmold-in-cramme
END:VEVENT
BEGIN:VEVENT
DTSTART;TZID=UTC:20230203T080000
DTEND;TZID=UTC:20230203T223000
DTSTAMP:20260425T115014
CREATED:20230109T203917Z
LAST-MODIFIED:20230109T203917Z
UID:893-1675411200-1675463400@elisabeth-schmeisser.de
SUMMARY:Hänsel und Gretel\, Junge Oper\, in Oebisfelde-Weferlingen
DESCRIPTION:
URL:https://elisabeth-schmeisser.de/events/haensel-und-gretel-junge-oper-in-oebisfelde-weferlingen
END:VEVENT
END:VCALENDAR