BEGIN:VCALENDAR
VERSION:2.0
PRODID:-//Elisabeth Schmeißer - ECPv6.0.6.2//NONSGML v1.0//EN
CALSCALE:GREGORIAN
METHOD:PUBLISH
X-ORIGINAL-URL:https://elisabeth-schmeisser.de
X-WR-CALDESC:Events for Elisabeth Schmeißer
REFRESH-INTERVAL;VALUE=DURATION:PT1H
X-Robots-Tag:noindex
X-PUBLISHED-TTL:PT1H
BEGIN:VTIMEZONE
TZID:UTC
BEGIN:STANDARD
TZOFFSETFROM:+0000
TZOFFSETTO:+0000
TZNAME:UTC
DTSTART:20240101T000000
END:STANDARD
END:VTIMEZONE
BEGIN:VEVENT
DTSTART;TZID=UTC:20240202T190000
DTEND;TZID=UTC:20240202T220000
DTSTAMP:20260422T121513
CREATED:20221221T234732Z
LAST-MODIFIED:20230804T185216Z
UID:811-1706900400-1706911200@elisabeth-schmeisser.de
SUMMARY:AIDA - Das Arena Opern Spektakel
DESCRIPTION:Gehen Sie mit uns auf eine fantastische Reise in das alte Ägypten – tauchen Sie ein in die Zeit der Pharaonen. AIDA – das Arena Opern Spektakel 2024!\nBereits beim Betreten der Arena fällt der Blick auf eine mächtige Tempelfassade voller Hieroglyphen. Es ist Nacht. Der Duft von heißem Wüstensand\, Meer und Gewürzen hängt in der Luft. Man hört das leise Zirpen der Grillen und spürt ab und an eine leichte Brise im Gesicht. Die Lebensader Ägyptens\, der Nil\, „fließt“ von der Tribüne auf die Bühne\, Feuerwerk wird entzündet bei der triumphalen Rückkehr des siegreichen Ägyptischen Heeres und „Ayana“\, eine lebensechte Elefantendame\, wird liebevoll von sechs Puppenspielern zum Leben erweckt!\nSeien Sie dabei und erleben Sie die Armee von Radames\, das Gefolge der Prinzessin Amneris\, die Macht von Ramfis\, dem ägyptischen Oberpriester\, und das Heimatland der äthiopischen Prinzessin AIDA so unmittelbar und eindrucksvoll wie nur möglich.
URL:https://elisabeth-schmeisser.de/events/choristin-bei-fkp-show-creations-in-g-verdis-aida-in-hamburg-und-geplanter-17-laender-tournee-2024
LOCATION:Barclays Arena Hamburg\, Barclays Arena\, Hamburg\, 22525
ORGANIZER;CN="FKP%20Show%20Creations":MAILTO:info@fkpshowcreations.com
END:VEVENT
END:VCALENDAR