BEGIN:VCALENDAR
VERSION:2.0
PRODID:-//Elisabeth Schmeißer - ECPv6.0.6.2//NONSGML v1.0//EN
CALSCALE:GREGORIAN
METHOD:PUBLISH
X-ORIGINAL-URL:https://elisabeth-schmeisser.de
X-WR-CALDESC:Events for Elisabeth Schmeißer
REFRESH-INTERVAL;VALUE=DURATION:PT1H
X-Robots-Tag:noindex
X-PUBLISHED-TTL:PT1H
BEGIN:VTIMEZONE
TZID:UTC
BEGIN:STANDARD
TZOFFSETFROM:+0000
TZOFFSETTO:+0000
TZNAME:UTC
DTSTART:20230101T000000
END:STANDARD
END:VTIMEZONE
BEGIN:VEVENT
DTSTART;TZID=UTC:20231127T200000
DTEND;TZID=UTC:20231127T220000
DTSTAMP:20260422T153741
CREATED:20231128T113919Z
LAST-MODIFIED:20231128T114002Z
UID:1157-1701115200-1701122400@elisabeth-schmeisser.de
SUMMARY:"Die Flucht ins Glück" Klassenabend HMT Rostock
DESCRIPTION:Klassenabend von Prof. Fionnuala McCarthy \nMitwirkende: \nLinda Ahlers\nLina Baldovino\nJosefine Holzhausen\nLisa Hübner\nJimyeong Jung\nJohanna Krause\nSina Puffay\nJaehwan Shim\nElisabeth Schmeißer\nSo Yeon Yang \nAm Flügel:\nFelix Dymke\nGeorge Needham\nMaximilian Zimmerman \nKlassenabend 7 \n  \n 
URL:https://elisabeth-schmeisser.de/events/die-flucht-ins-glueck-klassenabend-hmt-rostock
LOCATION:Rostock\, Beim St.-Katharinenstift 8\, Rostock\, 18055\, Deutschland
END:VEVENT
END:VCALENDAR